BEGIN:VCALENDAR
VERSION:2.0
PRODID:-//Funky Buddha Yoga House - ECPv6.15.17.1//NONSGML v1.0//EN
CALSCALE:GREGORIAN
METHOD:PUBLISH
X-WR-CALNAME:Funky Buddha Yoga House
X-ORIGINAL-URL:https://yogahothouse.com
X-WR-CALDESC:Events for Funky Buddha Yoga House
REFRESH-INTERVAL;VALUE=DURATION:PT1H
X-Robots-Tag:noindex
X-PUBLISHED-TTL:PT1H
BEGIN:VTIMEZONE
TZID:America/Detroit
BEGIN:DAYLIGHT
TZOFFSETFROM:-0500
TZOFFSETTO:-0400
TZNAME:EDT
DTSTART:20250309T070000
END:DAYLIGHT
BEGIN:STANDARD
TZOFFSETFROM:-0400
TZOFFSETTO:-0500
TZNAME:EST
DTSTART:20251102T060000
END:STANDARD
BEGIN:DAYLIGHT
TZOFFSETFROM:-0500
TZOFFSETTO:-0400
TZNAME:EDT
DTSTART:20260308T070000
END:DAYLIGHT
BEGIN:STANDARD
TZOFFSETFROM:-0400
TZOFFSETTO:-0500
TZNAME:EST
DTSTART:20261101T060000
END:STANDARD
BEGIN:DAYLIGHT
TZOFFSETFROM:-0500
TZOFFSETTO:-0400
TZNAME:EDT
DTSTART:20270314T070000
END:DAYLIGHT
BEGIN:STANDARD
TZOFFSETFROM:-0400
TZOFFSETTO:-0500
TZNAME:EST
DTSTART:20271107T060000
END:STANDARD
END:VTIMEZONE
BEGIN:VEVENT
DTSTART;VALUE=DATE:20260414
DTEND;VALUE=DATE:20260502
DTSTAMP:20260423T092602
CREATED:20260409T134451Z
LAST-MODIFIED:20260415T135008Z
UID:5916-1776124800-1777679999@yogahothouse.com
SUMMARY:Grow Your Practice Challenge Sign Up!
DESCRIPTION:Deets Short'n'Sweet			\n		\n				\n						\n				Allll About CLUB!			\n		\n					\n			\n				\n				\n				\n									Come for the yoga\, stay for the community (and a cup of coffee).With open arms\, we’re offering our latest installment of FunkyCLUB! with free coffee and open community. Coffee CLUB! is a casual\, come-as-you-are offering for connection in your third space right after our last morning class on Sunday\, May 19th.  Community is more important than ever–and the heart of all FunkyCLUB! offerings. Add Funky Buddha to your Sunday Reset: grab a coffee to-go orrr better yet\, stay a while. Catch up with a fellow yogi\, learn a new person’s name\, and chat us up about what fills your cup. We know you have coffee at home\, but you don’t have… well… US 😉  The Deets Short ‘n’ Sweet-11:30am\, May 19th(following our last morning class)Eastown Studio Pricing-FREE! FREE!!   								\n				\n				\n		\n				\n				\n									Funky Buddha strives to make our spaces and offerings available and accessible to all humans. FunkyCLUB! was created to add more play\, expansion\, and real community to your yoga practice. CLUB! is where we get to experiment alongside you. We’re excited to offer longer specialty classes\, deepening practices for your yoga journey\, community cultivation events and other “never-before-seen” offerings that go beyond a regularly scheduled yoga class. Alll the Funky values you love\, with new formats to Grow Your Practice.  Open to Everyone. Member Perk.All Funky CLUB! events are open to Every Body. Plus\, members get first week booking and CLUB! is included in all memberships as a perk. After that\, any remaining spots open up for class packs\, drop-ins\, and gift cards–Don’t worry\, we’ll remind you of booking dates! Come for the heat. Stay for the peeps. 🔥 								\n				\n				\n					\n		\n						\n				\n		\n				\n				\n									\n					\n						\n									Book A Flow!\n					\n					\n				\n								\n				\n				\n				\n									Attendance at the 10:30am class is not required for Coffee CLUB!–please feel most welcome to pop in for a warm cuppa joe\, yoga or no!
URL:https://yogahothouse.com/event/grow-your-practice-challenge-sign-up-may26/
LOCATION:MI
ATTACH;FMTTYPE=image/png:https://yogahothouse.com/wp-content/uploads/2026/04/43.png
END:VEVENT
BEGIN:VEVENT
DTSTART;TZID=America/Detroit:20260503T120000
DTEND;TZID=America/Detroit:20260503T143000
DTSTAMP:20260423T092602
CREATED:20260409T165327Z
LAST-MODIFIED:20260416T202712Z
UID:5921-1777809600-1777818600@yogahothouse.com
SUMMARY:Workshop: Mindful Myofascial Release + Supported Savasana
DESCRIPTION:Deets Short'n'Sweet			\n		\n				\n						\n				Allll About CLUB!			\n		\n					\n			\n				\n				\n				\n									Come for the yoga\, stay for the community (and a cup of coffee).With open arms\, we’re offering our latest installment of FunkyCLUB! with free coffee and open community. Coffee CLUB! is a casual\, come-as-you-are offering for connection in your third space right after our last morning class on Sunday\, May 19th.  Community is more important than ever–and the heart of all FunkyCLUB! offerings. Add Funky Buddha to your Sunday Reset: grab a coffee to-go orrr better yet\, stay a while. Catch up with a fellow yogi\, learn a new person’s name\, and chat us up about what fills your cup. We know you have coffee at home\, but you don’t have… well… US 😉  The Deets Short ‘n’ Sweet-11:30am\, May 19th(following our last morning class)Eastown Studio Pricing-FREE! FREE!!   								\n				\n				\n		\n				\n				\n									Funky Buddha strives to make our spaces and offerings available and accessible to all humans. FunkyCLUB! was created to add more play\, expansion\, and real community to your yoga practice. CLUB! is where we get to experiment alongside you. We’re excited to offer longer specialty classes\, deepening practices for your yoga journey\, community cultivation events and other “never-before-seen” offerings that go beyond a regularly scheduled yoga class. Alll the Funky values you love\, with new formats to Grow Your Practice.  Open to Everyone. Member Perk.All Funky CLUB! events are open to Every Body. Plus\, members get first week booking and CLUB! is included in all memberships as a perk. After that\, any remaining spots open up for class packs\, drop-ins\, and gift cards–Don’t worry\, we’ll remind you of booking dates! Come for the heat. Stay for the peeps. 🔥 								\n				\n				\n					\n		\n						\n				\n		\n				\n				\n									\n					\n						\n									Book A Flow!\n					\n					\n				\n								\n				\n				\n				\n									Attendance at the 10:30am class is not required for Coffee CLUB!–please feel most welcome to pop in for a warm cuppa joe\, yoga or no!
URL:https://yogahothouse.com/event/may-immersion-day-1/
LOCATION:Eastown\, 1331 Lake Dr SE\, Grand Rapids\, MI\, 49506\, United States
ATTACH;FMTTYPE=image/png:https://yogahothouse.com/wp-content/uploads/2026/04/44.png
END:VEVENT
BEGIN:VEVENT
DTSTART;TZID=America/Detroit:20260508T180000
DTEND;TZID=America/Detroit:20260508T203000
DTSTAMP:20260423T092602
CREATED:20260415T121413Z
LAST-MODIFIED:20260417T161443Z
UID:5938-1778263200-1778272200@yogahothouse.com
SUMMARY:Nervous System Reset: Yoga Philosophy & Movement Workshop
DESCRIPTION:Deets Short'n'Sweet			\n		\n				\n						\n				Allll About CLUB!			\n		\n					\n			\n				\n				\n				\n									Come for the yoga\, stay for the community (and a cup of coffee).With open arms\, we’re offering our latest installment of FunkyCLUB! with free coffee and open community. Coffee CLUB! is a casual\, come-as-you-are offering for connection in your third space right after our last morning class on Sunday\, May 19th.  Community is more important than ever–and the heart of all FunkyCLUB! offerings. Add Funky Buddha to your Sunday Reset: grab a coffee to-go orrr better yet\, stay a while. Catch up with a fellow yogi\, learn a new person’s name\, and chat us up about what fills your cup. We know you have coffee at home\, but you don’t have… well… US 😉  The Deets Short ‘n’ Sweet-11:30am\, May 19th(following our last morning class)Eastown Studio Pricing-FREE! FREE!!   								\n				\n				\n		\n				\n				\n									Funky Buddha strives to make our spaces and offerings available and accessible to all humans. FunkyCLUB! was created to add more play\, expansion\, and real community to your yoga practice. CLUB! is where we get to experiment alongside you. We’re excited to offer longer specialty classes\, deepening practices for your yoga journey\, community cultivation events and other “never-before-seen” offerings that go beyond a regularly scheduled yoga class. Alll the Funky values you love\, with new formats to Grow Your Practice.  Open to Everyone. Member Perk.All Funky CLUB! events are open to Every Body. Plus\, members get first week booking and CLUB! is included in all memberships as a perk. After that\, any remaining spots open up for class packs\, drop-ins\, and gift cards–Don’t worry\, we’ll remind you of booking dates! Come for the heat. Stay for the peeps. 🔥 								\n				\n				\n					\n		\n						\n				\n		\n				\n				\n									\n					\n						\n									Book A Flow!\n					\n					\n				\n								\n				\n				\n				\n									Attendance at the 10:30am class is not required for Coffee CLUB!–please feel most welcome to pop in for a warm cuppa joe\, yoga or no!
URL:https://yogahothouse.com/event/nervous-system-reset-yoga-philosophy-movement-workshop/
LOCATION:Forest Hills\, 820 Forest Hill Ave. SE\, Grand Rapids\, MI\, 49546\, United States
ATTACH;FMTTYPE=image/png:https://yogahothouse.com/wp-content/uploads/2026/04/45.png
END:VEVENT
END:VCALENDAR